BEGIN:VCALENDAR
VERSION:2.0
PRODID:-//Department Of Education//110cc5ac-2ed5-4818-a8e5-823de7b77f08
BEGIN:VTIMEZONE
TZID:Australia/Sydney
TZURL:http://tzurl.org/zoneinfo-outlook/Australia/Sydney
X-LIC-LOCATION:Australia/Sydney
BEGIN:STANDARD
TZOFFSETFROM:+1100
TZOFFSETTO:+1000
TZNAME:AEST
DTSTART:19700405T030000
RRULE:FREQ=YEARLY;BYMONTH=4;BYDAY=1SU
END:STANDARD
BEGIN:DAYLIGHT
TZOFFSETFROM:+1000
TZOFFSETTO:+1100
TZNAME:AEDT
DTSTART:19701004T020000
RRULE:FREQ=YEARLY;BYMONTH=10;BYDAY=1SU
END:DAYLIGHT
END:VTIMEZONE
CALSCALE:GREGORIAN
X-WR-TIMEZONE:Australia/Sydney
BEGIN:VEVENT
DTSTART;TZID=Australia/Sydney:20200226T080000
DTEND;TZID=Australia/Sydney:20200226T090000
DTSTAMP:20200226T000000Z
UID:1f3a95a7-bf21-4c08-b70e-2e0960f70dc6
LOCATION:Oatley Park
SUMMARY;LANGUAGE=en-us:League Stars Program
RRULE:FREQ=WEEKLY;INTERVAL=1;UNTIL=20200401;
SEQUENCE:0
DESCRIPTION:League stars before school program. Mrs Di Lucchio supervising.
END:VEVENT
TRANSP:TRANSPARENT
END:VCALENDAR
